BEGIN:VCALENDAR
VERSION:2.0
PRODID:-//kommunaljutsu.org//NONSGML v1.0//EN
METHOD:PUBLISH
CALSCALE:GREGORIAN
BEGIN:VEVENT
UID:https://www.passail.at/muelltermine/bioabfall-22-05-2026/
DTSTAMP:20260420T090915Z
DTSTART;VALUE=DATE:20260522
DTEND;VALUE=DATE:20260523
LOCATION:
DESCRIPTION:
URL;VALUE=URI:https://www.passail.at/muelltermine/bioabfall-2026-05-2
 2/
SUMMARY:Bioabfall
BEGIN:VALARM
TRIGGER;VALUE=DATE-TIME:20260521T130000Z
ACTION:DISPLAY
DESCRIPTION:ALARM
END:VALARM
END:VEVENT
BEGIN:VEVENT
UID:https://www.passail.at/muelltermine/bioabfall-22-05-2026/
DTSTAMP:20260420T090915Z
DTSTART;VALUE=DATE:20260522
DTEND;VALUE=DATE:20260523
LOCATION:
DESCRIPTION:
URL;VALUE=URI:https://www.passail.at/muelltermine/bioabfall-2026-05-2
 2-2/
SUMMARY:Bioabfall
BEGIN:VALARM
TRIGGER;VALUE=DATE-TIME:20260521T130000Z
ACTION:DISPLAY
DESCRIPTION:ALARM
END:VALARM
END:VEVENT
BEGIN:VEVENT
UID:https://www.passail.at/muelltermine/bioabfall-22-05-2026/
DTSTAMP:20260420T090915Z
DTSTART;VALUE=DATE:20260522
DTEND;VALUE=DATE:20260523
LOCATION:
DESCRIPTION:
URL;VALUE=URI:https://www.passail.at/muelltermine/bioabfall-2026-05-2
 2-3/
SUMMARY:Bioabfall
BEGIN:VALARM
TRIGGER;VALUE=DATE-TIME:20260521T130000Z
ACTION:DISPLAY
DESCRIPTION:ALARM
END:VALARM
END:VEVENT
BEGIN:VEVENT
UID:https://www.passail.at/muelltermine/bioabfall-11-05-2026/
DTSTAMP:20260420T090915Z
DTSTART;VALUE=DATE:20260511
DTEND;VALUE=DATE:20260512
LOCATION:
DESCRIPTION:
URL;VALUE=URI:https://www.passail.at/muelltermine/bioabfall-2026-05-1
 1/
SUMMARY:Bioabfall
BEGIN:VALARM
TRIGGER;VALUE=DATE-TIME:20260510T130000Z
ACTION:DISPLAY
DESCRIPTION:ALARM
END:VALARM
END:VEVENT
BEGIN:VEVENT
UID:https://www.passail.at/muelltermine/bioabfall-11-05-2026/
DTSTAMP:20260420T090915Z
DTSTART;VALUE=DATE:20260511
DTEND;VALUE=DATE:20260512
LOCATION:
DESCRIPTION:
URL;VALUE=URI:https://www.passail.at/muelltermine/bioabfall-2026-05-1
 1-2/
SUMMARY:Bioabfall
BEGIN:VALARM
TRIGGER;VALUE=DATE-TIME:20260510T130000Z
ACTION:DISPLAY
DESCRIPTION:ALARM
END:VALARM
END:VEVENT
BEGIN:VEVENT
UID:https://www.passail.at/muelltermine/bioabfall-11-05-2026/
DTSTAMP:20260420T090915Z
DTSTART;VALUE=DATE:20260511
DTEND;VALUE=DATE:20260512
LOCATION:
DESCRIPTION:
URL;VALUE=URI:https://www.passail.at/muelltermine/bioabfall-2026-05-1
 1-3/
SUMMARY:Bioabfall
BEGIN:VALARM
TRIGGER;VALUE=DATE-TIME:20260510T130000Z
ACTION:DISPLAY
DESCRIPTION:ALARM
END:VALARM
END:VEVENT
END:VCALENDAR
